BEGIN:VCALENDAR
VERSION:2.0
PRODID:-//Ajo Unified School District - ECPv6.15.17.1//NONSGML v1.0//EN
CALSCALE:GREGORIAN
METHOD:PUBLISH
X-WR-CALNAME:Ajo Unified School District
X-ORIGINAL-URL:https://www.ajoschools.org
X-WR-CALDESC:Events for Ajo Unified School District
REFRESH-INTERVAL;VALUE=DURATION:PT1H
X-Robots-Tag:noindex
X-PUBLISHED-TTL:PT1H
BEGIN:VTIMEZONE
TZID:America/Phoenix
BEGIN:STANDARD
TZOFFSETFROM:-0700
TZOFFSETTO:-0700
TZNAME:MST
DTSTART:20250101T000000
END:STANDARD
END:VTIMEZONE
BEGIN:VEVENT
DTSTART;VALUE=DATE:20260805
DTEND;VALUE=DATE:20260806
DTSTAMP:20260420T020908
CREATED:20260217T164836Z
LAST-MODIFIED:20260217T164836Z
UID:10000651-1785888000-1785974399@www.ajoschools.org
SUMMARY:Early Release
DESCRIPTION:
URL:https://www.ajoschools.org/event/early-release-10/2026-08-05
END:VEVENT
BEGIN:VEVENT
DTSTART;VALUE=DATE:20260812
DTEND;VALUE=DATE:20260813
DTSTAMP:20260420T020908
CREATED:20260217T164836Z
LAST-MODIFIED:20260217T164836Z
UID:10000652-1786492800-1786579199@www.ajoschools.org
SUMMARY:Early Release
DESCRIPTION:
URL:https://www.ajoschools.org/event/early-release-10/2026-08-12
END:VEVENT
BEGIN:VEVENT
DTSTART;VALUE=DATE:20260819
DTEND;VALUE=DATE:20260820
DTSTAMP:20260420T020908
CREATED:20260217T164836Z
LAST-MODIFIED:20260217T164836Z
UID:10000653-1787097600-1787183999@www.ajoschools.org
SUMMARY:Early Release
DESCRIPTION:
URL:https://www.ajoschools.org/event/early-release-10/2026-08-19
END:VEVENT
BEGIN:VEVENT
DTSTART;VALUE=DATE:20260826
DTEND;VALUE=DATE:20260827
DTSTAMP:20260420T020908
CREATED:20260217T164836Z
LAST-MODIFIED:20260217T164836Z
UID:10000654-1787702400-1787788799@www.ajoschools.org
SUMMARY:Early Release
DESCRIPTION:
URL:https://www.ajoschools.org/event/early-release-10/2026-08-26
END:VEVENT
BEGIN:VEVENT
DTSTART;VALUE=DATE:20260902
DTEND;VALUE=DATE:20260903
DTSTAMP:20260420T020908
CREATED:20260217T164836Z
LAST-MODIFIED:20260217T164836Z
UID:10000655-1788307200-1788393599@www.ajoschools.org
SUMMARY:Early Release
DESCRIPTION:
URL:https://www.ajoschools.org/event/early-release-10/2026-09-02
END:VEVENT
BEGIN:VEVENT
DTSTART;VALUE=DATE:20260909
DTEND;VALUE=DATE:20260910
DTSTAMP:20260420T020908
CREATED:20260217T164836Z
LAST-MODIFIED:20260217T164836Z
UID:10000656-1788912000-1788998399@www.ajoschools.org
SUMMARY:Early Release
DESCRIPTION:
URL:https://www.ajoschools.org/event/early-release-10/2026-09-09
END:VEVENT
BEGIN:VEVENT
DTSTART;VALUE=DATE:20260916
DTEND;VALUE=DATE:20260917
DTSTAMP:20260420T020908
CREATED:20260217T164836Z
LAST-MODIFIED:20260217T164836Z
UID:10000657-1789516800-1789603199@www.ajoschools.org
SUMMARY:Early Release
DESCRIPTION:
URL:https://www.ajoschools.org/event/early-release-10/2026-09-16
END:VEVENT
BEGIN:VEVENT
DTSTART;VALUE=DATE:20260923
DTEND;VALUE=DATE:20260924
DTSTAMP:20260420T020908
CREATED:20260217T164836Z
LAST-MODIFIED:20260217T164836Z
UID:10000658-1790121600-1790207999@www.ajoschools.org
SUMMARY:Early Release
DESCRIPTION:
URL:https://www.ajoschools.org/event/early-release-10/2026-09-23
END:VEVENT
BEGIN:VEVENT
DTSTART;VALUE=DATE:20260930
DTEND;VALUE=DATE:20261001
DTSTAMP:20260420T020908
CREATED:20260217T164836Z
LAST-MODIFIED:20260217T164836Z
UID:10000659-1790726400-1790812799@www.ajoschools.org
SUMMARY:Early Release
DESCRIPTION:
URL:https://www.ajoschools.org/event/early-release-10/2026-09-30
END:VEVENT
END:VCALENDAR