BEGIN:VCALENDAR
VERSION:2.0
PRODID:-//Ajo Unified School District - ECPv6.15.17.1//NONSGML v1.0//EN
CALSCALE:GREGORIAN
METHOD:PUBLISH
X-WR-CALNAME:Ajo Unified School District
X-ORIGINAL-URL:https://www.ajoschools.org
X-WR-CALDESC:Events for Ajo Unified School District
REFRESH-INTERVAL;VALUE=DURATION:PT1H
X-Robots-Tag:noindex
X-PUBLISHED-TTL:PT1H
BEGIN:VTIMEZONE
TZID:America/Phoenix
BEGIN:STANDARD
TZOFFSETFROM:-0700
TZOFFSETTO:-0700
TZNAME:MST
DTSTART:20260101T000000
END:STANDARD
END:VTIMEZONE
BEGIN:VEVENT
DTSTART;VALUE=DATE:20270106
DTEND;VALUE=DATE:20270107
DTSTAMP:20260420T020108
CREATED:20260217T165343Z
LAST-MODIFIED:20260217T165343Z
UID:10000668-1799193600-1799279999@www.ajoschools.org
SUMMARY:Early Release
DESCRIPTION:
URL:https://www.ajoschools.org/event/early-release-14/2027-01-06
END:VEVENT
BEGIN:VEVENT
DTSTART;VALUE=DATE:20270113
DTEND;VALUE=DATE:20270114
DTSTAMP:20260420T020108
CREATED:20260217T165343Z
LAST-MODIFIED:20260217T165343Z
UID:10000669-1799798400-1799884799@www.ajoschools.org
SUMMARY:Early Release
DESCRIPTION:
URL:https://www.ajoschools.org/event/early-release-14/2027-01-13
END:VEVENT
BEGIN:VEVENT
DTSTART;VALUE=DATE:20270120
DTEND;VALUE=DATE:20270121
DTSTAMP:20260420T020108
CREATED:20260217T165343Z
LAST-MODIFIED:20260217T165343Z
UID:10000670-1800403200-1800489599@www.ajoschools.org
SUMMARY:Early Release
DESCRIPTION:
URL:https://www.ajoschools.org/event/early-release-14/2027-01-20
END:VEVENT
BEGIN:VEVENT
DTSTART;VALUE=DATE:20270127
DTEND;VALUE=DATE:20270128
DTSTAMP:20260420T020108
CREATED:20260217T165343Z
LAST-MODIFIED:20260217T165343Z
UID:10000671-1801008000-1801094399@www.ajoschools.org
SUMMARY:Early Release
DESCRIPTION:
URL:https://www.ajoschools.org/event/early-release-14/2027-01-27
END:VEVENT
BEGIN:VEVENT
DTSTART;VALUE=DATE:20270203
DTEND;VALUE=DATE:20270204
DTSTAMP:20260420T020108
CREATED:20260217T165343Z
LAST-MODIFIED:20260217T165343Z
UID:10000672-1801612800-1801699199@www.ajoschools.org
SUMMARY:Early Release
DESCRIPTION:
URL:https://www.ajoschools.org/event/early-release-14/2027-02-03
END:VEVENT
BEGIN:VEVENT
DTSTART;VALUE=DATE:20270210
DTEND;VALUE=DATE:20270211
DTSTAMP:20260420T020108
CREATED:20260217T165343Z
LAST-MODIFIED:20260217T165343Z
UID:10000673-1802217600-1802303999@www.ajoschools.org
SUMMARY:Early Release
DESCRIPTION:
URL:https://www.ajoschools.org/event/early-release-14/2027-02-10
END:VEVENT
BEGIN:VEVENT
DTSTART;VALUE=DATE:20270217
DTEND;VALUE=DATE:20270218
DTSTAMP:20260420T020108
CREATED:20260217T165343Z
LAST-MODIFIED:20260217T165343Z
UID:10000674-1802822400-1802908799@www.ajoschools.org
SUMMARY:Early Release
DESCRIPTION:
URL:https://www.ajoschools.org/event/early-release-14/2027-02-17
END:VEVENT
BEGIN:VEVENT
DTSTART;VALUE=DATE:20270224
DTEND;VALUE=DATE:20270225
DTSTAMP:20260420T020108
CREATED:20260217T165343Z
LAST-MODIFIED:20260217T165343Z
UID:10000675-1803427200-1803513599@www.ajoschools.org
SUMMARY:Early Release
DESCRIPTION:
URL:https://www.ajoschools.org/event/early-release-14/2027-02-24
END:VEVENT
BEGIN:VEVENT
DTSTART;VALUE=DATE:20270303
DTEND;VALUE=DATE:20270304
DTSTAMP:20260420T020108
CREATED:20260217T165343Z
LAST-MODIFIED:20260217T165343Z
UID:10000676-1804032000-1804118399@www.ajoschools.org
SUMMARY:Early Release
DESCRIPTION:
URL:https://www.ajoschools.org/event/early-release-14/2027-03-03
END:VEVENT
BEGIN:VEVENT
DTSTART;VALUE=DATE:20270310
DTEND;VALUE=DATE:20270311
DTSTAMP:20260420T020108
CREATED:20260217T165343Z
LAST-MODIFIED:20260217T165343Z
UID:10000677-1804636800-1804723199@www.ajoschools.org
SUMMARY:Early Release
DESCRIPTION:
URL:https://www.ajoschools.org/event/early-release-14/2027-03-10
END:VEVENT
END:VCALENDAR