BEGIN:VCALENDAR
VERSION:2.0
PRODID:-//Ajo Unified School District - ECPv6.15.17.1//NONSGML v1.0//EN
CALSCALE:GREGORIAN
METHOD:PUBLISH
X-WR-CALNAME:Ajo Unified School District
X-ORIGINAL-URL:https://www.ajoschools.org
X-WR-CALDESC:Events for Ajo Unified School District
REFRESH-INTERVAL;VALUE=DURATION:PT1H
X-Robots-Tag:noindex
X-PUBLISHED-TTL:PT1H
BEGIN:VTIMEZONE
TZID:America/Phoenix
BEGIN:STANDARD
TZOFFSETFROM:-0700
TZOFFSETTO:-0700
TZNAME:MST
DTSTART:20260101T000000
END:STANDARD
END:VTIMEZONE
BEGIN:VEVENT
DTSTART;VALUE=DATE:20270324
DTEND;VALUE=DATE:20270325
DTSTAMP:20260419T053518
CREATED:20260217T165505Z
LAST-MODIFIED:20260217T165505Z
UID:10000678-1805846400-1805932799@www.ajoschools.org
SUMMARY:Early Release
DESCRIPTION:
URL:https://www.ajoschools.org/event/early-release-15/2027-03-24
END:VEVENT
BEGIN:VEVENT
DTSTART;VALUE=DATE:20270331
DTEND;VALUE=DATE:20270401
DTSTAMP:20260419T053518
CREATED:20260217T165505Z
LAST-MODIFIED:20260217T165505Z
UID:10000679-1806451200-1806537599@www.ajoschools.org
SUMMARY:Early Release
DESCRIPTION:
URL:https://www.ajoschools.org/event/early-release-15/2027-03-31
END:VEVENT
BEGIN:VEVENT
DTSTART;VALUE=DATE:20270407
DTEND;VALUE=DATE:20270408
DTSTAMP:20260419T053518
CREATED:20260217T165505Z
LAST-MODIFIED:20260217T165505Z
UID:10000680-1807056000-1807142399@www.ajoschools.org
SUMMARY:Early Release
DESCRIPTION:
URL:https://www.ajoschools.org/event/early-release-15/2027-04-07
END:VEVENT
BEGIN:VEVENT
DTSTART;VALUE=DATE:20270414
DTEND;VALUE=DATE:20270415
DTSTAMP:20260419T053518
CREATED:20260217T165505Z
LAST-MODIFIED:20260217T165505Z
UID:10000681-1807660800-1807747199@www.ajoschools.org
SUMMARY:Early Release
DESCRIPTION:
URL:https://www.ajoschools.org/event/early-release-15/2027-04-14
END:VEVENT
BEGIN:VEVENT
DTSTART;VALUE=DATE:20270421
DTEND;VALUE=DATE:20270422
DTSTAMP:20260419T053518
CREATED:20260217T165505Z
LAST-MODIFIED:20260217T165505Z
UID:10000682-1808265600-1808351999@www.ajoschools.org
SUMMARY:Early Release
DESCRIPTION:
URL:https://www.ajoschools.org/event/early-release-15/2027-04-21
END:VEVENT
BEGIN:VEVENT
DTSTART;VALUE=DATE:20270428
DTEND;VALUE=DATE:20270429
DTSTAMP:20260419T053518
CREATED:20260217T165505Z
LAST-MODIFIED:20260217T165505Z
UID:10000683-1808870400-1808956799@www.ajoschools.org
SUMMARY:Early Release
DESCRIPTION:
URL:https://www.ajoschools.org/event/early-release-15/2027-04-28
END:VEVENT
BEGIN:VEVENT
DTSTART;VALUE=DATE:20270505
DTEND;VALUE=DATE:20270506
DTSTAMP:20260419T053518
CREATED:20260217T165505Z
LAST-MODIFIED:20260217T165505Z
UID:10000684-1809475200-1809561599@www.ajoschools.org
SUMMARY:Early Release
DESCRIPTION:
URL:https://www.ajoschools.org/event/early-release-15/2027-05-05
END:VEVENT
BEGIN:VEVENT
DTSTART;VALUE=DATE:20270512
DTEND;VALUE=DATE:20270513
DTSTAMP:20260419T053518
CREATED:20260217T165505Z
LAST-MODIFIED:20260217T165505Z
UID:10000685-1810080000-1810166399@www.ajoschools.org
SUMMARY:Early Release
DESCRIPTION:
URL:https://www.ajoschools.org/event/early-release-15/2027-05-12
END:VEVENT
END:VCALENDAR