BEGIN:VCALENDAR
VERSION:2.0
PRODID:-//Ajo Unified School District - ECPv6.15.17.1//NONSGML v1.0//EN
CALSCALE:GREGORIAN
METHOD:PUBLISH
X-ORIGINAL-URL:https://www.ajoschools.org
X-WR-CALDESC:Events for Ajo Unified School District
REFRESH-INTERVAL;VALUE=DURATION:PT1H
X-Robots-Tag:noindex
X-PUBLISHED-TTL:PT1H
BEGIN:VTIMEZONE
TZID:America/Phoenix
BEGIN:STANDARD
TZOFFSETFROM:-0700
TZOFFSETTO:-0700
TZNAME:MST
DTSTART:20230101T000000
END:STANDARD
END:VTIMEZONE
BEGIN:VEVENT
DTSTART;TZID=America/Phoenix:20240628T081500
DTEND;TZID=America/Phoenix:20240628T120000
DTSTAMP:20260421T124131
CREATED:20240620T170446Z
LAST-MODIFIED:20240620T170446Z
UID:10000298-1719562500-1719576000@www.ajoschools.org
SUMMARY:Girls and Boys Grades 9–12 Summer Basketball Camp
DESCRIPTION:
URL:https://www.ajoschools.org/event/girls-and-boys-grades-9-12-summer-basketball-camp-5
LOCATION:AHS Gym
END:VEVENT
BEGIN:VEVENT
DTSTART;TZID=America/Phoenix:20240627T081500
DTEND;TZID=America/Phoenix:20240627T120000
DTSTAMP:20260421T124131
CREATED:20240620T170422Z
LAST-MODIFIED:20240620T170422Z
UID:10000297-1719476100-1719489600@www.ajoschools.org
SUMMARY:Girls and Boys Grades 9–12 Summer Basketball Camp
DESCRIPTION:
URL:https://www.ajoschools.org/event/girls-and-boys-grades-9-12-summer-basketball-camp-4
LOCATION:AHS Gym
END:VEVENT
BEGIN:VEVENT
DTSTART;TZID=America/Phoenix:20240626T081500
DTEND;TZID=America/Phoenix:20240626T120000
DTSTAMP:20260421T124131
CREATED:20240620T170400Z
LAST-MODIFIED:20240620T170400Z
UID:10000296-1719389700-1719403200@www.ajoschools.org
SUMMARY:Girls and Boys Grades 9–12 Summer Basketball Camp
DESCRIPTION:
URL:https://www.ajoschools.org/event/girls-and-boys-grades-9-12-summer-basketball-camp-3
LOCATION:AHS Gym
END:VEVENT
BEGIN:VEVENT
DTSTART;TZID=America/Phoenix:20240625T081500
DTEND;TZID=America/Phoenix:20240625T120000
DTSTAMP:20260421T124131
CREATED:20240620T170338Z
LAST-MODIFIED:20240620T170338Z
UID:10000295-1719303300-1719316800@www.ajoschools.org
SUMMARY:Girls and Boys Grades 9–12 Summer Basketball Camp
DESCRIPTION:
URL:https://www.ajoschools.org/event/girls-and-boys-grades-9-12-summer-basketball-camp-2
LOCATION:AHS Gym
END:VEVENT
BEGIN:VEVENT
DTSTART;TZID=America/Phoenix:20240624T081500
DTEND;TZID=America/Phoenix:20240624T120000
DTSTAMP:20260421T124131
CREATED:20240620T170313Z
LAST-MODIFIED:20240620T170313Z
UID:10000294-1719216900-1719230400@www.ajoschools.org
SUMMARY:Girls and Boys Grades 9–12 Summer Basketball Camp
DESCRIPTION:
URL:https://www.ajoschools.org/event/girls-and-boys-grades-9-12-summer-basketball-camp
LOCATION:AHS Gym
END:VEVENT
END:VCALENDAR